BEGIN:VCALENDAR
VERSION:2.0
PRODID:icalendar-ruby
CALSCALE:GREGORIAN
METHOD:PUBLISH
BEGIN:VEVENT
DTSTAMP:20260421T135048Z
UID:da47e25b-0846-428c-856c-3bab92596b9e
DTSTART:20260523T080000
DTEND:20260523T130000
DESCRIPTION:<p><strong>FORM & FLOW 2 at Cabo Beach</strong></p><p><br></p><
 p><span>Join us for another exclusive </span><strong>3-part Pilates Sculpt
  series with Hannah Habits</strong><span> at Cabo Beach.</span></p><p><spa
 n>Move\, reset\, and flow with us in one of Cape Town’s most breathtakin
 g beachfront settings.</span></p><p><br></p><p><span>Your ticket includes:
 </span></p><ul><li><span>Sculpt Class</span></li><li><span>Pilates mat pro
 vided</span></li><li><span>Post Flow Matcha/Coffee</span></li><li><span>Cu
 rated goodie bag</span></li><li><span>Unmatched ocean views</span></li></u
 l><p><br></p><p><span>Three sessions. One elevated wellness experience.</s
 pan></p><p><span>Limited spots available — secure your place via the lin
 k.</span></p><p><br></p><p><br></p>
LOCATION:12 South Arm RD\, Victoria & Alfred Waterfront\, Cape Town\, 8002
SUMMARY:FORM & FLOW 2 at Cabo Beach
URL;VALUE=URI:https://cabobeachclub.howler.co.za/formandflow2
END:VEVENT
END:VCALENDAR
